Workbook

Sheet P&L-25
A1: Swaraj Electricals and Hardware
A2: Ward No.2, Gumthala, Kamptee Road, Nagpur 441104
A3: Profit & Loss A/C For the Year Ednding 31st March 2025 | H3: BAIPD1932K
A4: PARTICULAR | B4: AMOUNT | D4: PARTICULAR | F4: AMOUNT
A5: Opening Stock | B5: 4585450
A6: Purchase | B6: =8558410-140000+10105+207280 -> 8635795 | D6: Sales | F6: 8258250 | H6: =+F6/365 -> 22625.342
A7: Transportation & Carting | B7: 135680
A8: Salary to Staff | B8: =22450*12 -> 269400
D10: Closing Stock | F10: 6485200
A12: Gross Profit C/F | B12: =F14-SUM(B5:B11) -> 1117125 | H12: =B12*100/F6 -> 13.527382
B14: =SUM(B5:B13) -> 14743450 | F14: =SUM(F5:F13) -> 14743450
A16: Accounting Charges | B16: 25000 | D16: Gross Profit C/F | F16: =B12 -> 1117125
A17: Legal & Professional Fees | B17: 12000
A18: Electricity Exp | B18: =2568*12 -> 30816
A19: Printing & Stationery | B19: 9855
A20: Insurance Paid | B20: 8285
A21: Shop & Misc Expenses | B21: 15435
A22: Carriage Outwards | B22: 45865
A23: Postage & Telephone | B23: 13210
A24: Bank Charges & Comission | B24: 7657
A25: Interest Paid of Loan | B25: 51534
A26: Conveynce & Expenses | B26: 9870
A27: Repair & Maintanance | B27: 15950
A28: Depreciation | B28: ='BS-25'!F10+'BS-25'!F13+'BS-25'!F16 -> 183929 | M28: =B29-B28-B25 -> 193943
B29: =SUM(B16:C28) -> 429406
A30: Net Profit :- | B30: =F32-B29 -> 687719 | G30: =B30*100/F6 -> 8.3276602
A32: Total : - | B32: =SUM(B29:B31) -> 1117125 | D32: Total :- | F32: =SUM(F16:F31) -> 1117125
B34: =+B30-687719 -> 0
A35: For Swaraj Electricals and Hardware
A38: Proprietor

Sheet BS-25
A1: ='P&L-25'!A1:F1 -> Swaraj Electricals and Hardware
A2: ='P&L-25'!A2:F2 -> Ward No.2, Gumthala, Kamptee Road, Nagpur 441104
A3: Projected Balance Sheet As on 31st March 2025
A4: Liabilites | C4: Amount | E4: Assets | G4: Amount
A6: CAPITAL A/C | E6: FIXED ASSTES :
A7: Opening Balance | B7: 15090200 | E7: Shop & Builiding | G7: 8545500
A8: Add :-During the year | B8: 0
A9: Add: Profit During the year | B9: ='P&L-25'!B30 -> 687719 | E9: Vehical | F9: 857450
B10: =SUM(B7:B9) -> 15777919 | E10: Less:- Depr. @15% | F10: =F9*15%-0.5 -> 128617 | G10: =+F9-F10 -> 728833
A11: Less :- Drawing | B11: 541500 | C11: =B10-B11 -> 15236419
E12: Computer & Printers | F12: 74580
E13: Less:- Depr. @40% | F13: =+F12*40% -> 29832 | G13: =+F12-F13 -> 44748
A14: SECURED LOAN :
A15: YES Bank (Vehical Loan) | C15: 554500 | E15: Furniture & Fixture | F15: 254800
A16: HDB BANK Loan | C16: 85740 | E16: Less:- Depr. @10% | F16: =+F15*10% -> 25480 | G16: =+F15-F16 -> 229320 | I16: =SUM(G6:G16) -> 9548401
M17: =SUM(C15:C16) -> 640240
I18: =G7+F9+F12+F15 -> 9732330 | K18: =F10+F13+F16 -> 183929
A19: CURRENT LIABILITES: | E19: Loan & Advance | G19: 0
A20: Sundry Creditors | C20: 623530 | J20: =+K18*100/I18 -> 1.8898763
E21: DEPOSIT & INVESTMENT
A22: PROVISIONS : | E22: MSEB Deposit | G22: 5000
A23: Salary Payable | C23: 22950
A24: Electricity Exp. Payable | C24: 2535 | K24: =SUM(C23:C24) -> 25485
E25: CURRENT ASSETS :
E26: Sundry Debtors :- | G26: 458460
E28: CLOSING STOCK : | G28: ='P&L-25'!F10 -> 6485200
E30: CASH & BANK BALANCE
E31: Cash in Hand | G31: 25683.83
E32: Central Bank Of India (CA A/C) | G32: 2264.88
E33: Central Bank Of India (SB A/C) | G33: 664.29 | I33: =SUM(G31:G33) -> 28613
A35: Total :- | C35: =SUM(C7:C34) -> 16525674 | E35: Total :- | G35: =SUM(G7:G34) -> 16525674
K36: =SUM(G6:G34) -> 16525674
A37: ='P&L-25'!A35 -> For Swaraj Electricals and Hardware | C37: =C35-G35 -> 0
A39: Propritor

Sheet P&L-2026
A1: Swaraj Electricals and Hardware
A2: Ward No.2, Gumthala, Kamptee Road, Nagpur 441104
A3: Provisional Profit & Loss A/C For the Year Ending 31st March 2026 | H3: BAIPD1932K
A4: PARTICULAR | B4: AMOUNT | D4: PARTICULAR | F4: AMOUNT
A5: Opening Stock | B5: ='P&L-25'!F10 -> 6485200
A6: Purchase | B6: =7164950+21530 -> 7186480 | D6: Sales | F6: 8825820 | H6: =+F6/365 -> 24180.329
A7: Transportation & Carting | B7: 183560
A8: Salary to Staff | B8: 293400 | D8: Closing Stock | F8: 6838500
A11: Gross Profit C/F | B11: =F13-SUM(B5:B10) -> 1515680 | H11: =B11*100/F6 -> 17.173248
B13: =SUM(B5:B12) -> 15664320 | F13: =SUM(F5:F12) -> 15664320
A15: Accounting Charges | B15: 25000 | D15: Gross Profit C/F | F15: =B11 -> 1515680
A16: Legal & Professional Fees | B16: 11760
A17: Electricity Exp | B17: =2455*12 -> 29460
A18: Printing & Stationery | B18: 10985
A19: Insurance Paid | B19: 9825
A20: Shop & Misc Expenses | B20: 18545
A21: Carriage Outwards | B21: 46585
A22: Postage & Telephone | B22: 15210
A23: Bank Charges & Comission | B23: 8753
A24: Interest Paid of Loan | B24: =Yes!H42+HDB!G40+Birla!H29 -> 207606.64
A25: Conveynce & Expenses | B25: 10980
A26: Repair & Maintanance | B26: 16550
A27: Depreciation | B27: ='BS-2026'!F10+'BS-2026'!F13+'BS-2026'!F16 -> 150155.65 | M27: =B28-B27-B24 -> 203653
B28: =SUM(B15:C27) -> 561415.29
A29: Net Profit :- | B29: =F31-B28 -> 954264.71 | G29: =B29*100/F6 -> 10.812193
A31: Total : - | B31: =SUM(B28:B30) -> 1515680 | D31: Total :- | F31: =SUM(F15:F30) -> 1515680
A34: For Swaraj Electricals and Hardware
A37: Proprietor

Sheet BS-2026
A1: ='P&L-25'!A1:F1 -> Swaraj Electricals and Hardware
A2: ='P&L-25'!A2:F2 -> Ward No.2, Gumthala, Kamptee Road, Nagpur 441104
A3: Provisional Balance Sheet As on 31st March 2026
A4: Liabilites | C4: Amount | E4: Assets | G4: Amount
A6: CAPITAL A/C | E6: FIXED ASSTES :
A7: Opening Balance | B7: ='BS-25'!C11 -> 15236419 | E7: Shop & Builiding | G7: 8545500
A8: Add :-During the year | B8: 0
A9: Add: Profit During the year | B9: ='P&L-2026'!B29 -> 954264.71 | E9: Vehical | F9: ='BS-25'!G10 -> 728833
B10: =SUM(B7:B9) -> 16190684 | E10: Less:- Depr. @15% | F10: =F9*15%-0.5 -> 109324.45 | G10: =+F9-F10 -> 619508.55
A11: Less :- Drawing | B11: 566400 | C11: =B10-B11 -> 15624284
E12: Computer & Printers | F12: ='BS-25'!G13 -> 44748
E13: Less:- Depr. @40% | F13: =+F12*40% -> 17899.2 | G13: =+F12-F13 -> 26848.8
A14: SECURED LOAN :
A15: YES Bank (Vehical Loan) | C15: 547273 | E15: Furniture & Fixture | F15: ='BS-25'!G16 -> 229320
A16: HDB BANK Loan | C16: 124288 | E16: Less:- Depr. @10% | F16: =+F15*10% -> 22932 | G16: =+F15-F16 -> 206388 | I16: =SUM(G6:G16) -> 9398245.4
A17: Aditya Birla Capital | C17: 223953 | M17: =SUM(C15:C16) -> 671561
I18: =G7+F9+F12+F15 -> 9548401 | K18: =F10+F13+F16 -> 150155.65
A19: CURRENT LIABILITES: | E19: Loan & Advance | G19: 65000
A20: Sundry Creditors | C20: 456230 | J20: =+K18*100/I18 -> 1.5725738
E21: DEPOSIT & INVESTMENT
A22: PROVISIONS : | E22: MSEB Deposit | G22: 5000
A23: Salary Payable | C23: 25420
A24: Electricity Exp. Payable | C24: 3125 | K24: =SUM(C23:C24) -> 28545
E25: CURRENT ASSETS :
E26: Sundry Debtors :- | G26: 655915
E28: CLOSING STOCK : | G28: ='P&L-2026'!F8 -> 6838500
E30: CASH & BANK BALANCE
E31: Cash in Hand | G31: 39763.85
E32: Central Bank Of India (CA A/C) | G32: 1303.52
E33: Central Bank Of India (SB A/C) | G33: 844.99 | I33: =SUM(G31:G33) -> 41912.36
A35: Total :- | C35: =SUM(C7:C34) -> 17004573 | E35: Total :- | G35: =SUM(G7:G34) -> 17004573
K36: =SUM(G6:G34) -> 17004573
A37: ='P&L-25'!A35 -> For Swaraj Electricals and Hardware | C37: =C35-G35 -> -0.0026864186
A39: Propritor

Sheet Yes
A1: VEHICAL | C1: 919658 | E1: Sundaram Finance
A2: DOWN PAYMENT | B2: 0 | C2: =C1*B2 -> 0
A3: FINAL PRINIUM | C3: =C1-C2 -> 919658
A4: INTEREST RATE | C4: 0.155 | D4: PA
A5: PERIOD | C5: 5 | D5: YEAR
A6: NO OF INSTALLMENT | C6: =+C5*12 -> 60 | D6: MONTH
A7: INTREST
A8: INSTALLMENT
A11: SNO | B11: MONTH | C11: INSTALLMENT | D11: PRINCIPLE | E11: INTERST | F11: BALANCE
A12: 0 | B12: 45170 | F12: =C3+D7 -> 919658
A13: 1 | B13: =EDATE(B12,1) -> 45200 | C13: =-PMT($C$4/12,$C$6,$C$3) -> 22120.71 | D13: =-PPMT($C$4/12,A13,$C$6,$C$3) -> 10241.794 | E13: =-IPMT($C$4/12,A13,$C$6,$C$3) -> 11878.916 | F13: =F12-D13 -> 909416.21
A14: 2 | B14: =EDATE(B13,1) -> 45231 | C14: =-PMT($C$4/12,$C$6,$C$3) -> 22120.71 | D14: =-PPMT($C$4/12,A14,$C$6,$C$3) -> 10374.084 | E14: =-IPMT($C$4/12,A14,$C$6,$C$3) -> 11746.626 | F14: =F13-D14 -> 899042.12
A15: 3 | B15: =EDATE(B14,1) -> 45261 | C15: =-PMT($C$4/12,$C$6,$C$3) -> 22120.71 | D15: =-PPMT($C$4/12,A15,$C$6,$C$3) -> 10508.082 | E15: =-IPMT($C$4/12,A15,$C$6,$C$3) -> 11612.627 | F15: =F14-D15 -> 888534.04
A16: 4 | B16: =EDATE(B15,1) -> 45292 | C16: =-PMT($C$4/12,$C$6,$C$3) -> 22120.71 | D16: =-PPMT($C$4/12,A16,$C$6,$C$3) -> 10643.812 | E16: =-IPMT($C$4/12,A16,$C$6,$C$3) -> 11476.898 | F16: =F15-D16 -> 877890.23
A17: 5 | B17: =EDATE(B16,1) -> 45323 | C17: =-PMT($C$4/12,$C$6,$C$3) -> 22120.71 | D17: =-PPMT($C$4/12,A17,$C$6,$C$3) -> 10781.294 | E17: =-IPMT($C$4/12,A17,$C$6,$C$3) -> 11339.415 | F17: =F16-D17 -> 867108.93
A18: 6 | B18: =EDATE(B17,1) -> 45352 | C18: =-PMT($C$4/12,$C$6,$C$3) -> 22120.71 | D18: =-PPMT($C$4/12,A18,$C$6,$C$3) -> 10920.553 | E18: =-IPMT($C$4/12,A18,$C$6,$C$3) -> 11200.157 | F18: =F17-D18 -> 856188.38
A19: 7 | B19: =EDATE(B18,1) -> 45383 | C19: =-PMT($C$4/12,$C$6,$C$3) -> 22120.71 | D19: =-PPMT($C$4/12,A19,$C$6,$C$3) -> 11061.61 | E19: =-IPMT($C$4/12,A19,$C$6,$C$3) -> 11059.1 | F19: =F18-D19 -> 845126.77
A20: 8 | B20: =EDATE(B19,1) -> 45413 | C20: =-PMT($C$4/12,$C$6,$C$3) -> 22120.71 | D20: =-PPMT($C$4/12,A20,$C$6,$C$3) -> 11204.489 | E20: =-IPMT($C$4/12,A20,$C$6,$C$3) -> 10916.221 | F20: =F19-D20 -> 833922.28
A21: 9 | B21: =EDATE(B20,1) -> 45444 | C21: =-PMT($C$4/12,$C$6,$C$3) -> 22120.71 | D21: =-PPMT($C$4/12,A21,$C$6,$C$3) -> 11349.213 | E21: =-IPMT($C$4/12,A21,$C$6,$C$3) -> 10771.496 | F21: =F20-D21 -> 822573.07
A22: 10 | B22: =EDATE(B21,1) -> 45474 | C22: =-PMT($C$4/12,$C$6,$C$3) -> 22120.71 | D22: =-PPMT($C$4/12,A22,$C$6,$C$3) -> 11495.807 | E22: =-IPMT($C$4/12,A22,$C$6,$C$3) -> 10624.902 | F22: =F21-D22 -> 811077.26
A23: 11 | B23: =EDATE(B22,1) -> 45505 | C23: =-PMT($C$4/12,$C$6,$C$3) -> 22120.71 | D23: =-PPMT($C$4/12,A23,$C$6,$C$3) -> 11644.295 | E23: =-IPMT($C$4/12,A23,$C$6,$C$3) -> 10476.415 | F23: =F22-D23 -> 799432.97
A24: 12 | B24: =EDATE(B23,1) -> 45536 | C24: =-PMT($C$4/12,$C$6,$C$3) -> 22120.71 | D24: =-PPMT($C$4/12,A24,$C$6,$C$3) -> 11794.7 | E24: =-IPMT($C$4/12,A24,$C$6,$C$3) -> 10326.009 | F24: =F23-D24 -> 787638.27
... A41: 29 | B41: =EDATE(B40,1) -> 46054 | C41: =-PMT($C$4/12,$C$6,$C$3) -> 22120.71 | D41: =-PPMT($C$4/12,A41,$C$6,$C$3) -> 14670.338 | E41: =-IPMT($C$4/12,A41,$C$6,$C$3) -> 7450.3721 | F41: =F40-D41 -> 562132.66
A42: 30 | B42: =EDATE(B41,1) -> 46082 | C42: =-PMT($C$4/12,$C$6,$C$3) -> 22120.71 | D42: =-PPMT($C$4/12,A42,$C$6,$C$3) -> 14859.829 | E42: =-IPMT($C$4/12,A42,$C$6,$C$3) -> 7260.8802 | F42: =F41-D42 -> 547272.83 | H42: =SUM(E31:E42) -> 99120.365
A43: 31 | B43: =EDATE(B42,1) -> 46113 | C43: =-PMT($C$4/12,$C$6,$C$3) -> 22120.71 | D43: =-PPMT($C$4/12,A43,$C$6,$C$3) -> 15051.769 | E43: =-IPMT($C$4/12,A43,$C$6,$C$3) -> 7068.9407 | F43: =F42-D43 -> 532221.06
A44: 32 | B44: =EDATE(B43,1) -> 46143 | C44: =-PMT($C$4/12,$C$6,$C$3) -> 22120.71 | D44: =-PPMT($C$4/12,A44,$C$6,$C$3) -> 15246.188 | E44: =-IPMT($C$4/12,A44,$C$6,$C$3) -> 6874.5221 | F44: =F43-D44 -> 516974.88
A45: 33 | B45: =EDATE(B44,1) -> 46174 | C45: =-PMT($C$4/12,$C$6,$C$3) -> 22120.71 | D45: =-PPMT($C$4/12,A45,$C$6,$C$3) -> 15443.117 | E45: =-IPMT($C$4/12,A45,$C$6,$C$3) -> 6677.5921 | F45: =F44-D45 -> 501531.76
A46: 34 | B46: =EDATE(B45,1) -> 46204 | C46: =-PMT($C$4/12,$C$6,$C$3) -> 22120.71 | D46: =-PPMT($C$4/12,A46,$C$6,$C$3) -> 15642.591 | E46: =-IPMT($C$4/12,A46,$C$6,$C$3) -> 6478.1185 | F46: =F45-D46 -> 485889.17
A47: 35 | B47: =EDATE(B46,1) -> 46235 | C47: =-PMT($C$4/12,$C$6,$C$3) -> 22120.71 | D47: =-PPMT($C$4/12,A47,$C$6,$C$3) -> 15844.641 | E47: =-IPMT($C$4/12,A47,$C$6,$C$3) -> 6276.0684 | F47: =F46-D47 -> 470044.53
A48: 36 | B48: =EDATE(B47,1) -> 46266 | C48: =-PMT($C$4/12,$C$6,$C$3) -> 22120.71 | D48: =-PPMT($C$4/12,A48,$C$6,$C$3) -> 16049.301 | E48: =-IPMT($C$4/12,A48,$C$6,$C$3) -> 6071.4085 | F48: =F47-D48 -> 453995.22
A49: 37 | B49: =EDATE(B48,1) -> 46296 | C49: =-PMT($C$4/12,$C$6,$C$3) -> 22120.71 | D49: =-PPMT($C$4/12,A49,$C$6,$C$3) -> 16256.605 | E49: =-IPMT($C$4/12,A49,$C$6,$C$3) -> 5864.105 | F49: =F48-D49 -> 437738.62
A50: 38 | B50: =EDATE(B49,1) -> 46327 | C50: =-PMT($C$4/12,$C$6,$C$3) -> 22120.71 | D50: =-PPMT($C$4/12,A50,$C$6,$C$3) -> 16466.586 | E50: =-IPMT($C$4/12,A50,$C$6,$C$3) -> 5654.1238 | F50: =F49-D50 -> 421272.03
A51: 39 | B51: =EDATE(B50,1) -> 46357 | C51: =-PMT($C$4/12,$C$6,$C$3) -> 22120.71 | D51: =-PPMT($C$4/12,A51,$C$6,$C$3) -> 16679.279 | E51: =-IPMT($C$4/12,A51,$C$6,$C$3) -> 5441.4304 | F51: =F50-D51 -> 404592.75
A52: 40 | B52: =EDATE(B51,1) -> 46388 | C52: =-PMT($C$4/12,$C$6,$C$3) -> 22120.71 | D52: =-PPMT($C$4/12,A52,$C$6,$C$3) -> 16894.72 | E52: =-IPMT($C$4/12,A52,$C$6,$C$3) -> 5225.9898 | F52: =F51-D52 -> 387698.04
A53: 41 | B53: =EDATE(B52,1) -> 46419 | C53: =-PMT($C$4/12,$C$6,$C$3) -> 22120.71 | D53: =-PPMT($C$4/12,A53,$C$6,$C$3) -> 17112.943 | E53: =-IPMT($C$4/12,A53,$C$6,$C$3) -> 5007.7663 | F53: =F52-D53 -> 370585.09
A54: 42 | B54: =EDATE(B53,1) -> 46447 | C54: =-PMT($C$4/12,$C$6,$C$3) -> 22120.71 | D54: =-PPMT($C$4/12,A54,$C$6,$C$3) -> 17333.985 | E54: =-IPMT($C$4/12,A54,$C$6,$C$3) -> 4786.7241 | F54: =F53-D54 -> 353251.11
... A91: 79 | B91: =EDATE(B90,1) -> 47574 | C91: =-PMT($C$4/12,$C$6,$C$3) -> 22120.71 | D91: =-PPMT($C$4/12,A91,$C$6,$C$3) -> #NUM! | E91: =-IPMT($C$4/12,A91,$C$6,$C$3) -> #NUM! | F91: =F90-D91 -> #NUM!
A92: 80 | B92: =EDATE(B91,1) -> 47604 | C92: =-PMT($C$4/12,$C$6,$C$3) -> 22120.71 | D92: =-PPMT($C$4/12,A92,$C$6,$C$3) -> #NUM! | E92: =-IPMT($C$4/12,A92,$C$6,$C$3) -> #NUM! | F92: =F91-D92 -> #NUM! | H92: =SUM(E82:E92) -> #NUM!
A93: 81 | B93: =EDATE(B92,1) -> 47635 | C93: =-PMT($C$4/12,$C$6,$C$3) -> 22120.71 | D93: =-PPMT($C$4/12,A93,$C$6,$C$3) -> #NUM! | E93: =-IPMT($C$4/12,A93,$C$6,$C$3) -> #NUM! | F93: =F92-D93 -> #NUM!
A94: 82 | B94: =EDATE(B93,1) -> 47665 | C94: =-PMT($C$4/12,$C$6,$C$3) -> 22120.71 | D94: =-PPMT($C$4/12,A94,$C$6,$C$3) -> #NUM! | E94: =-IPMT($C$4/12,A94,$C$6,$C$3) -> #NUM! | F94: =F93-D94 -> #NUM!
...

Sheet HDB
A1: VEHICAL | C1: 450000 | E1: Sundaram Finance
A2: DOWN PAYMENT | B2: 0 | C2: =C1*B2 -> 0
A3: FINAL PRINIUM | C3: =C1-C2 -> 450000
A4: INTEREST RATE | C4: 0.2 | D4: PA
A5: PERIOD | C5: 3 | D5: YEAR
A6: NO OF INSTALLMENT | C6: =+C5*12 -> 36 | D6: MONTH
A7: INTREST
A8: INSTALLMENT
A11: SNO | B11: MONTH | C11: INSTALLMENT | D11: PRINCIPLE | E11: INTERST | F11: BALANCE
A12: 0 | B12: 45231 | F12: =C3+D7 -> 450000
A13: 1 | B13: =EDATE(B12,1) -> 45261 | C13: =-PMT($C$4/12,$C$6,$C$3) -> 16723.613 | D13: =-PPMT($C$4/12,A13,$C$6,$C$3) -> 9223.6125 | E13: =-IPMT($C$4/12,A13,$C$6,$C$3) -> 7500 | F13: =F12-D13 -> 440776.39
A14: 2 | B14: =EDATE(B13,1) -> 45292 | C14: =-PMT($C$4/12,$C$6,$C$3) -> 16723.613 | D14: =-PPMT($C$4/12,A14,$C$6,$C$3) -> 9377.3394 | E14: =-IPMT($C$4/12,A14,$C$6,$C$3) -> 7346.2731 | F14: =F13-D14 -> 431399.05
A15: 3 | B15: =EDATE(B14,1) -> 45323 | C15: =-PMT($C$4/12,$C$6,$C$3) -> 16723.613 | D15: =-PPMT($C$4/12,A15,$C$6,$C$3) -> 9533.6284 | E15: =-IPMT($C$4/12,A15,$C$6,$C$3) -> 7189.9841 | F15: =F14-D15 -> 421865.42
A16: 4 | B16: =EDATE(B15,1) -> 45352 | C16: =-PMT($C$4/12,$C$6,$C$3) -> 16723.613 | D16: =-PPMT($C$4/12,A16,$C$6,$C$3) -> 9692.5222 | E16: =-IPMT($C$4/12,A16,$C$6,$C$3) -> 7031.0903 | F16: =F15-D16 -> 412172.9
A17: 5 | B17: =EDATE(B16,1) -> 45383 | C17: =-PMT($C$4/12,$C$6,$C$3) -> 16723.613 | D17: =-PPMT($C$4/12,A17,$C$6,$C$3) -> 9854.0642 | E17: =-IPMT($C$4/12,A17,$C$6,$C$3) -> 6869.5483 | F17: =F16-D17 -> 402318.83
A18: 6 | B18: =EDATE(B17,1) -> 45413 | C18: =-PMT($C$4/12,$C$6,$C$3) -> 16723.613 | D18: =-PPMT($C$4/12,A18,$C$6,$C$3) -> 10018.299 | E18: =-IPMT($C$4/12,A18,$C$6,$C$3) -> 6705.3139 | F18: =F17-D18 -> 392300.53
A19: 7 | B19: =EDATE(B18,1) -> 45444 | C19: =-PMT($C$4/12,$C$6,$C$3) -> 16723.613 | D19: =-PPMT($C$4/12,A19,$C$6,$C$3) -> 10185.27 | E19: =-IPMT($C$4/12,A19,$C$6,$C$3) -> 6538.3422 | F19: =F18-D19 -> 382115.26
A20: 8 | B20: =EDATE(B19,1) -> 45474 | C20: =-PMT($C$4/12,$C$6,$C$3) -> 16723.613 | D20: =-PPMT($C$4/12,A20,$C$6,$C$3) -> 10355.025 | E20: =-IPMT($C$4/12,A20,$C$6,$C$3) -> 6368.5877 | F20: =F19-D20 -> 371760.24
A21: 9 | B21: =EDATE(B20,1) -> 45505 | C21: =-PMT($C$4/12,$C$6,$C$3) -> 16723.613 | D21: =-PPMT($C$4/12,A21,$C$6,$C$3) -> 10527.609 | E21: =-IPMT($C$4/12,A21,$C$6,$C$3) -> 6196.004 | F21: =F20-D21 -> 361232.63
A22: 10 | B22: =EDATE(B21,1) -> 45536 | C22: =-PMT($C$4/12,$C$6,$C$3) -> 16723.613 | D22: =-PPMT($C$4/12,A22,$C$6,$C$3) -> 10703.069 | E22: =-IPMT($C$4/12,A22,$C$6,$C$3) -> 6020.5439 | F22: =F21-D22 -> 350529.56
A23: 11 | B23: =EDATE(B22,1) -> 45566 | C23: =-PMT($C$4/12,$C$6,$C$3) -> 16723.613 | D23: =-PPMT($C$4/12,A23,$C$6,$C$3) -> 10881.453 | E23: =-IPMT($C$4/12,A23,$C$6,$C$3) -> 5842.1594 | F23: =F22-D23 -> 339648.11
A24: 12 | B24: =EDATE(B23,1) -> 45597 | C24: =-PMT($C$4/12,$C$6,$C$3) -> 16723.613 | D24: =-PPMT($C$4/12,A24,$C$6,$C$3) -> 11062.811 | E24: =-IPMT($C$4/12,A24,$C$6,$C$3) -> 5660.8018 | F24: =F23-D24 -> 328585.3
... A39: 27 | B39: =EDATE(B38,1) -> 46054 | C39: =-PMT($C$4/12,$C$6,$C$3) -> 16723.613 | D39: =-PPMT($C$4/12,A39,$C$6,$C$3) -> 14175.691 | E39: =-IPMT($C$4/12,A39,$C$6,$C$3) -> 2547.9211 | F39: =F38-D39 -> 138699.58
A40: 28 | B40: =EDATE(B39,1) -> 46082 | C40: =-PMT($C$4/12,$C$6,$C$3) -> 16723.613 | D40: =-PPMT($C$4/12,A40,$C$6,$C$3) -> 14411.953 | E40: =-IPMT($C$4/12,A40,$C$6,$C$3) -> 2311.6596 | F40: =F39-D40 -> 124287.62 | G40: =SUM(E29:E40) -> 42511.706
A41: 29 | B41: =EDATE(B40,1) -> 46113 | C41: =-PMT($C$4/12,$C$6,$C$3) -> 16723.613 | D41: =-PPMT($C$4/12,A41,$C$6,$C$3) -> 14652.152 | E41: =-IPMT($C$4/12,A41,$C$6,$C$3) -> 2071.4604 | F41: =F40-D41 -> 109635.47
A42: 30 | B42: =EDATE(B41,1) -> 46143 | C42: =-PMT($C$4/12,$C$6,$C$3) -> 16723.613 | D42: =-PPMT($C$4/12,A42,$C$6,$C$3) -> 14896.355 | E42: =-IPMT($C$4/12,A42,$C$6,$C$3) -> 1827.2578 | F42: =F41-D42 -> 94739.116
A43: 31 | B43: =EDATE(B42,1) -> 46174 | C43: =-PMT($C$4/12,$C$6,$C$3) -> 16723.613 | D43: =-PPMT($C$4/12,A43,$C$6,$C$3) -> 15144.627 | E43: =-IPMT($C$4/12,A43,$C$6,$C$3) -> 1578.9853 | F43: =F42-D43 -> 79594.489
A44: 32 | B44: =EDATE(B43,1) -> 46204 | C44: =-PMT($C$4/12,$C$6,$C$3) -> 16723.613 | D44: =-PPMT($C$4/12,A44,$C$6,$C$3) -> 15397.038 | E44: =-IPMT($C$4/12,A44,$C$6,$C$3) -> 1326.5748 | F44: =F43-D44 -> 64197.451
A45: 33 | B45: =EDATE(B44,1) -> 46235 | C45: =-PMT($C$4/12,$C$6,$C$3) -> 16723.613 | D45: =-PPMT($C$4/12,A45,$C$6,$C$3) -> 15653.655 | E45: =-IPMT($C$4/12,A45,$C$6,$C$3) -> 1069.9575 | F45: =F44-D45 -> 48543.796
A46: 34 | B46: =EDATE(B45,1) -> 46266 | C46: =-PMT($C$4/12,$C$6,$C$3) -> 16723.613 | D46: =-PPMT($C$4/12,A46,$C$6,$C$3) -> 15914.549 | E46: =-IPMT($C$4/12,A46,$C$6,$C$3) -> 809.06327 | F46: =F45-D46 -> 32629.247
A47: 35 | B47: =EDATE(B46,1) -> 46296 | C47: =-PMT($C$4/12,$C$6,$C$3) -> 16723.613 | D47: =-PPMT($C$4/12,A47,$C$6,$C$3) -> 16179.792 | E47: =-IPMT($C$4/12,A47,$C$6,$C$3) -> 543.82078 | F47: =F46-D47 -> 16449.455
A48: 36 | B48: =EDATE(B47,1) -> 46327 | C48: =-PMT($C$4/12,$C$6,$C$3) -> 16723.613 | D48: =-PPMT($C$4/12,A48,$C$6,$C$3) -> 16449.455 | E48: =-IPMT($C$4/12,A48,$C$6,$C$3) -> 274.15758 | F48: =F47-D48 -> -6.5483619e-11
A49: 37 | B49: =EDATE(B48,1) -> 46357 | C49: =-PMT($C$4/12,$C$6,$C$3) -> 16723.613 | D49: =-PPMT($C$4/12,A49,$C$6,$C$3) -> #NUM! | E49: =-IPMT($C$4/12,A49,$C$6,$C$3) -> #NUM! | F49: =F48-D49 -> #NUM!
A50: 38 | B50: =EDATE(B49,1) -> 46388 | C50: =-PMT($C$4/12,$C$6,$C$3) -> 16723.613 | D50: =-PPMT($C$4/12,A50,$C$6,$C$3) -> #NUM! | E50: =-IPMT($C$4/12,A50,$C$6,$C$3) -> #NUM! | F50: =F49-D50 -> #NUM!
A51: 39 | B51: =EDATE(B50,1) -> 46419 | C51: =-PMT($C$4/12,$C$6,$C$3) -> 16723.613 | D51: =-PPMT($C$4/12,A51,$C$6,$C$3) -> #NUM! | E51: =-IPMT($C$4/12,A51,$C$6,$C$3) -> #NUM! | F51: =F50-D51 -> #NUM!
A52: 40 | B52: =EDATE(B51,1) -> 46447 | C52: =-PMT($C$4/12,$C$6,$C$3) -> 16723.613 | D52: =-PPMT($C$4/12,A52,$C$6,$C$3) -> #NUM! | E52: =-IPMT($C$4/12,A52,$C$6,$C$3) -> #NUM! | F52: =F51-D52 -> #NUM!
... A91: 79 | B91: =EDATE(B90,1) -> 47635 | C91: =-PMT($C$4/12,$C$6,$C$3) -> 16723.613 | D91: =-PPMT($C$4/12,A91,$C$6,$C$3) -> #NUM! | E91: =-IPMT($C$4/12,A91,$C$6,$C$3) -> #NUM! | F91: =F90-D91 -> #NUM!
A92: 80 | B92: =EDATE(B91,1) -> 47665 | C92: =-PMT($C$4/12,$C$6,$C$3) -> 16723.613 | D92: =-PPMT($C$4/12,A92,$C$6,$C$3) -> #NUM! | E92: =-IPMT($C$4/12,A92,$C$6,$C$3) -> #NUM! | F92: =F91-D92 -> #NUM! | H92: =SUM(E82:E92) -> #NUM!
A93: 81 | B93: =EDATE(B92,1) -> 47696 | C93: =-PMT($C$4/12,$C$6,$C$3) -> 16723.613 | D93: =-PPMT($C$4/12,A93,$C$6,$C$3) -> #NUM! | E93: =-IPMT($C$4/12,A93,$C$6,$C$3) -> #NUM! | F93: =F92-D93 -> #NUM!
A94: 82 | B94: =EDATE(B93,1) -> 47727 | C94: =-PMT($C$4/12,$C$6,$C$3) -> 16723.613 | D94: =-PPMT($C$4/12,A94,$C$6,$C$3) -> #NUM! | E94: =-IPMT($C$4/12,A94,$C$6,$C$3) -> #NUM! | F94: =F93-D94 -> #NUM!
...

Sheet Birla
A1: VEHICAL | C1: 360000 | E1: Sundaram Finance
A2: DOWN PAYMENT | B2: 0 | C2: =C1*B2 -> 0
A3: FINAL PRINIUM | C3: =C1-C2 -> 360000
A4: INTEREST RATE | C4: 0.26 | D4: PA
A5: PERIOD | C5: 3 | D5: YEAR
A6: NO OF INSTALLMENT | C6: =+C5*12 -> 36 | D6: MONTH
A7: INTREST
A8: INSTALLMENT
A11: SNO | B11: MONTH | C11: INSTALLMENT | D11: PRINCIPLE | E11: INTERST | F11: BALANCE
A12: 0 | B12: 45570 | F12: =C3+D7 -> 360000
A13: 1 | B13: =EDATE(B12,1) -> 45601 | C13: =-PMT($C$4/12,$C$6,$C$3) -> 14504.623 | D13: =-PPMT($C$4/12,A13,$C$6,$C$3) -> 6704.6234 | E13: =-IPMT($C$4/12,A13,$C$6,$C$3) -> 7800 | F13: =F12-D13 -> 353295.38
A14: 2 | B14: =EDATE(B13,1) -> 45631 | C14: =-PMT($C$4/12,$C$6,$C$3) -> 14504.623 | D14: =-PPMT($C$4/12,A14,$C$6,$C$3) -> 6849.8902 | E14: =-IPMT($C$4/12,A14,$C$6,$C$3) -> 7654.7332 | F14: =F13-D14 -> 346445.49
A15: 3 | B15: =EDATE(B14,1) -> 45662 | C15: =-PMT($C$4/12,$C$6,$C$3) -> 14504.623 | D15: =-PPMT($C$4/12,A15,$C$6,$C$3) -> 6998.3045 | E15: =-IPMT($C$4/12,A15,$C$6,$C$3) -> 7506.3189 | F15: =F14-D15 -> 339447.18
A16: 4 | B16: =EDATE(B15,1) -> 45693 | C16: =-PMT($C$4/12,$C$6,$C$3) -> 14504.623 | D16: =-PPMT($C$4/12,A16,$C$6,$C$3) -> 7149.9345 | E16: =-IPMT($C$4/12,A16,$C$6,$C$3) -> 7354.6889 | F16: =F15-D16 -> 332297.25
A17: 5 | B17: =EDATE(B16,1) -> 45721 | C17: =-PMT($C$4/12,$C$6,$C$3) -> 14504.623 | D17: =-PPMT($C$4/12,A17,$C$6,$C$3) -> 7304.8497 | E17: =-IPMT($C$4/12,A17,$C$6,$C$3) -> 7199.7737 | F17: =F16-D17 -> 324992.4
A18: 6 | B18: =EDATE(B17,1) -> 45752 | C18: =-PMT($C$4/12,$C$6,$C$3) -> 14504.623 | D18: =-PPMT($C$4/12,A18,$C$6,$C$3) -> 7463.1214 | E18: =-IPMT($C$4/12,A18,$C$6,$C$3) -> 7041.5019 | F18: =F17-D18 -> 317529.28
A19: 7 | B19: =EDATE(B18,1) -> 45782 | C19: =-PMT($C$4/12,$C$6,$C$3) -> 14504.623 | D19: =-PPMT($C$4/12,A19,$C$6,$C$3) -> 7624.8224 | E19: =-IPMT($C$4/12,A19,$C$6,$C$3) -> 6879.801 | F19: =F18-D19 -> 309904.45
A20: 8 | B20: =EDATE(B19,1) -> 45813 | C20: =-PMT($C$4/12,$C$6,$C$3) -> 14504.623 | D20: =-PPMT($C$4/12,A20,$C$6,$C$3) -> 7790.0269 | E20: =-IPMT($C$4/12,A20,$C$6,$C$3) -> 6714.5965 | F20: =F19-D20 -> 302114.43
A21: 9 | B21: =EDATE(B20,1) -> 45843 | C21: =-PMT($C$4/12,$C$6,$C$3) -> 14504.623 | D21: =-PPMT($C$4/12,A21,$C$6,$C$3) -> 7958.8108 | E21: =-IPMT($C$4/12,A21,$C$6,$C$3) -> 6545.8126 | F21: =F20-D21 -> 294155.62
A22: 10 | B22: =EDATE(B21,1) -> 45874 | C22: =-PMT($C$4/12,$C$6,$C$3) -> 14504.623 | D22: =-PPMT($C$4/12,A22,$C$6,$C$3) -> 8131.2517 | E22: =-IPMT($C$4/12,A22,$C$6,$C$3) -> 6373.3717 | F22: =F21-D22 -> 286024.36
A23: 11 | B23: =EDATE(B22,1) -> 45905 | C23: =-PMT($C$4/12,$C$6,$C$3) -> 14504.623 | D23: =-PPMT($C$4/12,A23,$C$6,$C$3) -> 8307.4288 | E23: =-IPMT($C$4/12,A23,$C$6,$C$3) -> 6197.1946 | F23: =F22-D23 -> 277716.94
A24: 12 | B24: =EDATE(B23,1) -> 45935 | C24: =-PMT($C$4/12,$C$6,$C$3) -> 14504.623 | D24: =-PPMT($C$4/12,A24,$C$6,$C$3) -> 8487.4231 | E24: =-IPMT($C$4/12,A24,$C$6,$C$3) -> 6017.2003 | F24: =F23-D24 -> 269229.51
... A28: 16 | B28: =EDATE(B27,1) -> 46058 | C28: =-PMT($C$4/12,$C$6,$C$3) -> 14504.623 | D28: =-PPMT($C$4/12,A28,$C$6,$C$3) -> 9247.2532 | E28: =-IPMT($C$4/12,A28,$C$6,$C$3) -> 5257.3702 | F28: =F27-D28 -> 233400.6
A29: 17 | B29: =EDATE(B28,1) -> 46086 | C29: =-PMT($C$4/12,$C$6,$C$3) -> 14504.623 | D29: =-PPMT($C$4/12,A29,$C$6,$C$3) -> 9447.6104 | E29: =-IPMT($C$4/12,A29,$C$6,$C$3) -> 5057.013 | F29: =F28-D29 -> 223952.99 | H29: =SUM(E19:E29) -> 65974.572
A30: 18 | B30: =EDATE(B29,1) -> 46117 | C30: =-PMT($C$4/12,$C$6,$C$3) -> 14504.623 | D30: =-PPMT($C$4/12,A30,$C$6,$C$3) -> 9652.3086 | E30: =-IPMT($C$4/12,A30,$C$6,$C$3) -> 4852.3148 | F30: =F29-D30 -> 214300.68
A31: 19 | B31: =EDATE(B30,1) -> 46147 | C31: =-PMT($C$4/12,$C$6,$C$3) -> 14504.623 | D31: =-PPMT($C$4/12,A31,$C$6,$C$3) -> 9861.442 | E31: =-IPMT($C$4/12,A31,$C$6,$C$3) -> 4643.1814 | F31: =F30-D31 -> 204439.24
A32: 20 | B32: =EDATE(B31,1) -> 46178 | C32: =-PMT($C$4/12,$C$6,$C$3) -> 14504.623 | D32: =-PPMT($C$4/12,A32,$C$6,$C$3) -> 10075.107 | E32: =-IPMT($C$4/12,A32,$C$6,$C$3) -> 4429.5169 | F32: =F31-D32 -> 194364.13
A33: 21 | B33: =EDATE(B32,1) -> 46208 | C33: =-PMT($C$4/12,$C$6,$C$3) -> 14504.623 | D33: =-PPMT($C$4/12,A33,$C$6,$C$3) -> 10293.401 | E33: =-IPMT($C$4/12,A33,$C$6,$C$3) -> 4211.2229 | F33: =F32-D33 -> 184070.73
A34: 22 | B34: =EDATE(B33,1) -> 46239 | C34: =-PMT($C$4/12,$C$6,$C$3) -> 14504.623 | D34: =-PPMT($C$4/12,A34,$C$6,$C$3) -> 10516.424 | E34: =-IPMT($C$4/12,A34,$C$6,$C$3) -> 3988.1992 | F34: =F33-D34 -> 173554.31
A35: 23 | B35: =EDATE(B34,1) -> 46270 | C35: =-PMT($C$4/12,$C$6,$C$3) -> 14504.623 | D35: =-PPMT($C$4/12,A35,$C$6,$C$3) -> 10744.28 | E35: =-IPMT($C$4/12,A35,$C$6,$C$3) -> 3760.3434 | F35: =F34-D35 -> 162810.03
A36: 24 | B36: =EDATE(B35,1) -> 46300 | C36: =-PMT($C$4/12,$C$6,$C$3) -> 14504.623 | D36: =-PPMT($C$4/12,A36,$C$6,$C$3) -> 10977.073 | E36: =-IPMT($C$4/12,A36,$C$6,$C$3) -> 3527.5506 | F36: =F35-D36 -> 151832.96
A37: 25 | B37: =EDATE(B36,1) -> 46331 | C37: =-PMT($C$4/12,$C$6,$C$3) -> 14504.623 | D37: =-PPMT($C$4/12,A37,$C$6,$C$3) -> 11214.909 | E37: =-IPMT($C$4/12,A37,$C$6,$C$3) -> 3289.714 | F37: =F36-D37 -> 140618.05
A38: 26 | B38: =EDATE(B37,1) -> 46361 | C38: =-PMT($C$4/12,$C$6,$C$3) -> 14504.623 | D38: =-PPMT($C$4/12,A38,$C$6,$C$3) -> 11457.899 | E38: =-IPMT($C$4/12,A38,$C$6,$C$3) -> 3046.7243 | F38: =F37-D38 -> 129160.15
A39: 27 | B39: =EDATE(B38,1) -> 46392 | C39: =-PMT($C$4/12,$C$6,$C$3) -> 14504.623 | D39: =-PPMT($C$4/12,A39,$C$6,$C$3) -> 11706.154 | E39: =-IPMT($C$4/12,A39,$C$6,$C$3) -> 2798.4699 | F39: =F38-D39 -> 117453.99
A40: 28 | B40: =EDATE(B39,1) -> 46423 | C40: =-PMT($C$4/12,$C$6,$C$3) -> 14504.623 | D40: =-PPMT($C$4/12,A40,$C$6,$C$3) -> 11959.787 | E40: =-IPMT($C$4/12,A40,$C$6,$C$3) -> 2544.8365 | F40: =F39-D40 -> 105494.21 | G40: =SUM(E29:E40) -> 46149.087
A41: 29 | B41: =EDATE(B40,1) -> 46451 | C41: =-PMT($C$4/12,$C$6,$C$3) -> 14504.623 | D41: =-PPMT($C$4/12,A41,$C$6,$C$3) -> 12218.916 | E41: =-IPMT($C$4/12,A41,$C$6,$C$3) -> 2285.7078 | F41: =F40-D41 -> 93275.292
A42: 30 | B42: =EDATE(B41,1) -> 46482 | C42: =-PMT($C$4/12,$C$6,$C$3) -> 14504.623 | D42: =-PPMT($C$4/12,A42,$C$6,$C$3) -> 12483.659 | E42: =-IPMT($C$4/12,A42,$C$6,$C$3) -> 2020.9647 | F42: =F41-D42 -> 80791.633
A43: 31 | B43: =EDATE(B42,1) -> 46512 | C43: =-PMT($C$4/12,$C$6,$C$3) -> 14504.623 | D43: =-PPMT($C$4/12,A43,$C$6,$C$3) -> 12754.138 | E43: =-IPMT($C$4/12,A43,$C$6,$C$3) -> 1750.4854 | F43: =F42-D43 -> 68037.495
A44: 32 | B44: =EDATE(B43,1) -> 46543 | C44: =-PMT($C$4/12,$C$6,$C$3) -> 14504.623 | D44: =-PPMT($C$4/12,A44,$C$6,$C$3) -> 13030.478 | E44: =-IPMT($C$4/12,A44,$C$6,$C$3) -> 1474.1457 | F44: =F43-D44 -> 55007.017
A45: 33 | B45: =EDATE(B44,1) -> 46573 | C45: =-PMT($C$4/12,$C$6,$C$3) -> 14504.623 | D45: =-PPMT($C$4/12,A45,$C$6,$C$3) -> 13312.805 | E45: =-IPMT($C$4/12,A45,$C$6,$C$3) -> 1191.8187 | F45: =F44-D45 -> 41694.213
...
